BEGIN:VCALENDAR
VERSION:2.0
PRODID:-//Museo Histórico Cultural Juan Santamaria - ECPv6.10.2//NONSGML v1.0//EN
CALSCALE:GREGORIAN
METHOD:PUBLISH
X-WR-CALNAME:Museo Histórico Cultural Juan Santamaria
X-ORIGINAL-URL:https://museojuansantamaria.go.cr
X-WR-CALDESC:Eventos para Museo Histórico Cultural Juan Santamaria
REFRESH-INTERVAL;VALUE=DURATION:PT1H
X-Robots-Tag:noindex
X-PUBLISHED-TTL:PT1H
BEGIN:VTIMEZONE
TZID:America/Costa_Rica
BEGIN:STANDARD
TZOFFSETFROM:-0600
TZOFFSETTO:-0600
TZNAME:CST
DTSTART:20260101T000000
END:STANDARD
END:VTIMEZONE
BEGIN:VEVENT
DTSTART;TZID=America/Costa_Rica:20260221T100000
DTEND;TZID=America/Costa_Rica:20260221T120000
DTSTAMP:20260419T204701
CREATED:20260213T202727Z
LAST-MODIFIED:20260213T202749Z
UID:9111-1771668000-1771675200@museojuansantamaria.go.cr
SUMMARY:Taller: Collage de conservación de la biodiversidad y conexión humano–animal
DESCRIPTION:Este taller propone un espacio de creación visual y reflexión en torno a la relación entre las personas y la vida silvestre. A través de la técnica del collage\, las y los participantes elaborarán afiches con mensajes de conservación\, explorando de manera creativa la conexión humano-animal y la importancia de proteger la biodiversidad. \nLa actividad está dirigida a jóvenes y personas adultas interesadas en el arte y la conciencia ambiental. \nFecha: 21 de febreroHora: 10:00 a.m. a 12:00 m.d.Museo Histórico Cultural Juan SantamaríaActividad gratuita \nInscripciones: escribir al correo cultura@mhcjs.go.cr \nMateriales que deben traer: tijeras\, pegamento\, revistas y periódicos.
URL:https://museojuansantamaria.go.cr/event/taller-collage-de-conservacion-de-la-biodiversidad-y-conexion-humano-animal/
ATTACH;FMTTYPE=image/jpeg:https://museojuansantamaria.go.cr/wp-content/uploads/2026/02/taller-montanas.jpg
END:VEVENT
END:VCALENDAR